BEGIN:VCALENDAR
PRODID:-//www.olympus-medical.jp//EN
VERSION:2.0
METHOD:PUBLISH
BEGIN:VEVENT
CLASS:PUBLIC
DESCRIPTION:オリンパス医療ウェブサイト メディカルタウン 学会・イベント\n\nDESIGN THE SEGMENTECTOMY ! ～いま、改めて区域切除を考える～\nhttps://www.olympus-medical.jp/events/jacsurg202605\n
DTSTART;TZID=Asia/Tokyo:20260515T143000
DTEND;TZID=Asia/Tokyo:20260515T152000
LOCATION:開催地：第4会場（つくば国際会議場　1F　大会議室102）
SUMMARY:DESIGN THE SEGMENTECTOMY ! ～いま、改めて区域切除を考える～
END:VEVENT
END:VCALENDAR
