BEGIN:VCALENDAR
PRODID:-//www.olympus-medical.jp//EN
VERSION:2.0
METHOD:PUBLISH
BEGIN:VEVENT
CLASS:PUBLIC
DESCRIPTION:オリンパス医療ウェブサイト メディカルタウン 学会・イベント\n\n婦人科腹腔鏡の臨床最前線と術者育成 — Be Ambitious in Minimally Invasive Surgery —\nhttps://www.olympus-medical.jp/events/jsog20260515\n
DTSTART;TZID=Asia/Tokyo:20260515T124000
DTEND;TZID=Asia/Tokyo:20260515T134000
LOCATION:開催地：第10会場 札幌プリンスホテル 国際館パミール 6F 大雪
SUMMARY:婦人科腹腔鏡の臨床最前線と術者育成 — Be Ambitious in Minimally Invasive Surgery —
END:VEVENT
END:VCALENDAR
